BEGIN:VCALENDAR
VERSION:2.0
PRODID:-//MHEC - ECPv6.15.18//NONSGML v1.0//EN
CALSCALE:GREGORIAN
METHOD:PUBLISH
X-WR-CALNAME:MHEC
X-ORIGINAL-URL:https://mhec.org
X-WR-CALDESC:Events for MHEC
REFRESH-INTERVAL;VALUE=DURATION:PT1H
X-Robots-Tag:noindex
X-PUBLISHED-TTL:PT1H
BEGIN:VTIMEZONE
TZID:America/Chicago
BEGIN:DAYLIGHT
TZOFFSETFROM:-0600
TZOFFSETTO:-0500
TZNAME:CDT
DTSTART:20250309T080000
END:DAYLIGHT
BEGIN:STANDARD
TZOFFSETFROM:-0500
TZOFFSETTO:-0600
TZNAME:CST
DTSTART:20251102T070000
END:STANDARD
BEGIN:DAYLIGHT
TZOFFSETFROM:-0600
TZOFFSETTO:-0500
TZNAME:CDT
DTSTART:20260308T080000
END:DAYLIGHT
BEGIN:STANDARD
TZOFFSETFROM:-0500
TZOFFSETTO:-0600
TZNAME:CST
DTSTART:20261101T070000
END:STANDARD
BEGIN:DAYLIGHT
TZOFFSETFROM:-0600
TZOFFSETTO:-0500
TZNAME:CDT
DTSTART:20270314T080000
END:DAYLIGHT
BEGIN:STANDARD
TZOFFSETFROM:-0500
TZOFFSETTO:-0600
TZNAME:CST
DTSTART:20271107T070000
END:STANDARD
END:VTIMEZONE
BEGIN:VEVENT
DTSTART;TZID=America/Chicago:20260514T110000
DTEND;TZID=America/Chicago:20260514T120000
DTSTAMP:20260423T032012
CREATED:20260420T200102Z
LAST-MODIFIED:20260420T203703Z
UID:7406-1778756400-1778760000@mhec.org
SUMMARY:Advancing Workforce Pell: Strategies for State and System Implementation
DESCRIPTION:Building on the Workforce Pell overview webinar\, this session takes a deeper dive into implementation in practice. Hear directly from state agencies and system leaders as they share approaches to program identification\, approval processes\, and cross-agency collaboration. Panelists will discuss key challenges\, lessons learned\, and strategies for aligning stakeholders and advancing implementation under tight timelines. \nPresenters \n\nCheryl Dowd\, Senior Director of Policy Innovations at WCET and the State Authorization Network (Moderator)\nLynette Kuhn\, Deputy Secretary for Postsecondary and Higher Education and Commissioner for Postsecondary and Higher Education\, Pennsylvania Department of Education\nCynthia Proctor\, Assistant Vice Chancellor for Credential Innovation\, State University of New York (SUNY) System\nAmy Shaffer\, Senior Director of Legal Services and Program Implementation\, Ohio Department of Higher Education\nLeroy Wade\, Deputy Commissioner – Operations\, Missouri Department of Higher Education & Workforce Development\nCarrie Wandler\, Senior Director of Policy Initiatives\, MHEC (Host)
URL:https://mhec.org/event/advancing-workforce-pell-strategies-for-state-and-system-implementation/
ATTACH;FMTTYPE=image/jpeg:https://mhec.org/wp-content/uploads/2026/04/CompleteCollegeAmerica_U098.jpg
ORGANIZER;CN="Mary Roberson":MAILTO:maryr@mhec.org
END:VEVENT
END:VCALENDAR